BEGIN:VCALENDAR
VERSION:2.0
PRODID:-//Tukios.com/
BEGIN:VEVENT
UID:b08c6c57-a1df-4be3-8381-db0f2ee7fdc9@www.myersfuneral.com
DTSTAMP:20260424T011558Z
DTSTART:20260504T150000Z
DTEND:20260504T160000Z
SUMMARY:Graveside for Madeline Sierra
DESCRIPTION:
URL:https://www.myersfuneral.com/obituaries/madeline-sierra
LOCATION:Hillcrest Memorial Park 1013 E. Olive Ave.  Porterville CA 93257
GEO:36.0648872;-118.9939788
END:VEVENT
END:VCALENDAR