BEGIN:VCALENDAR
VERSION:2.0
PRODID:-//Tukios.com/
BEGIN:VEVENT
UID:eaf9b7e1-3b6c-4890-9159-f847b6ad13df@www.myersfuneral.com
DTSTAMP:20260424T010956Z
DTSTART:20260501T130000Z
DTEND:20260501T140000Z
SUMMARY:Graveside for Janet Louise Goode
DESCRIPTION:
URL:https://www.myersfuneral.com/obituaries/janet-goode
LOCATION:Vandalia Cemetery 565 E Scranton Ave  Porterville CA 93257
GEO:36.0346633;-119.0049027
END:VEVENT
END:VCALENDAR