BEGIN:VCALENDAR
VERSION:2.0
PRODID:-//Tukios.com/
BEGIN:VEVENT
UID:edcc32f3-6495-4d8e-8c3f-6373eb4011b2@www.myersfuneral.com
DTSTAMP:20260424T011222Z
DTSTART:20260430T200000Z
DTEND:20260430T230000Z
SUMMARY:Visitation for Janet Louise Goode
DESCRIPTION:
URL:https://www.myersfuneral.com/obituaries/janet-goode
LOCATION:Myers Chapel 248 North E Street  Porterville CA 93257
GEO:36.0701103;-119.0194375
END:VEVENT
END:VCALENDAR