BEGIN:VCALENDAR
VERSION:2.0
PRODID:-//Tukios.com/
BEGIN:VEVENT
UID:ddb25297-ef08-47ec-8737-7f8e133fdaed@www.myersfuneral.com
DTSTAMP:20260424T011222Z
DTSTART:20260504T170000Z
DTEND:20260504T180000Z
SUMMARY:Graveside for Gordon Lee Moore
DESCRIPTION:
URL:https://www.myersfuneral.com/obituaries/gordon-moore
LOCATION:Hillcrest Memorial Park 1013 E. Olive Ave.  Porterville CA 93257
GEO:36.0648872;-118.9939788
END:VEVENT
END:VCALENDAR