BEGIN:VCALENDAR
VERSION:2.0
PRODID:-//Tukios.com/
BEGIN:VEVENT
UID:66261416-1e72-4a77-8b7d-4503b0732538@www.myersfuneral.com
DTSTAMP:20260422T214640Z
DTSTART:20260507T220000Z
DTEND:20260507T230000Z
SUMMARY:Rosary for Christian Rene Crouzet
DESCRIPTION:
URL:https://www.myersfuneral.com/obituaries/christian-crouzet
LOCATION:Myers Chapel 248 North E Street  Porterville CA 93257
GEO:36.0701103;-119.0194375
END:VEVENT
END:VCALENDAR