BEGIN:VCALENDAR
VERSION:2.0
PRODID:-//Tukios.com/
BEGIN:VEVENT
UID:d0be87d5-4417-4b62-9b4d-24c22c922414@www.myersfuneral.com
DTSTAMP:20260422T214627Z
DTSTART:20260507T200000Z
DTEND:20260507T230000Z
SUMMARY:Visitation for Christian Rene Crouzet
DESCRIPTION:
URL:https://www.myersfuneral.com/obituaries/christian-crouzet
LOCATION:Myers Chapel 248 North E Street  Porterville CA 93257
GEO:36.0701103;-119.0194375
END:VEVENT
END:VCALENDAR