BEGIN:VCALENDAR
VERSION:2.0
PRODID:-//Tukios.com/
BEGIN:VEVENT
UID:330dafda-bf9f-4939-96df-a2e0219b95b9@www.myersfuneral.com
DTSTAMP:20260422T214451Z
DTSTART:20260508T150000Z
DTEND:20260508T160000Z
SUMMARY:Mass of Christian Burial for Christian Rene Crouzet
DESCRIPTION:
URL:https://www.myersfuneral.com/obituaries/christian-crouzet
LOCATION:Holy Cross Church 1765 N Newcomb St  Porterville CA 93257
GEO:36.0977754;-119.0547305
END:VEVENT
END:VCALENDAR